BEGIN:VCALENDAR
VERSION:2.0
PRODID:icalendar-ruby
CALSCALE:GREGORIAN
METHOD:PUBLISH
BEGIN:VEVENT
DTSTAMP:20260424T142436Z
UID:7-1656044@abcofalaska.com
DTSTART:20260727T020000Z
DTEND:20260727T033000Z
CLASS:PUBLIC
CREATED:20260424T033525
DESCRIPTION:
LAST-MODIFIED:20260424T033525
LOCATION:
SUMMARY:Sunday Evening Service
URL;VALUE=URI:https://abcofalaska.com/events/sunday-evening-service/2026-07
 -26
ATTACH;FILENAME=2358383F-82E6-4F78-8637-9309E55CA04F.png;FMTTYPE=image/png:
 https://dq5pwpg1q8ru0.cloudfront.net/2022/06/16/00/21/11/2abeb160-7951-4c5
 8-bbc4-d7dbb1a9b158/2358383F-82E6-4F78-8637-9309E55CA04F.png
END:VEVENT
END:VCALENDAR
