BEGIN:VCALENDAR
VERSION:2.0
PRODID:icalendar-ruby
CALSCALE:GREGORIAN
METHOD:PUBLISH
BEGIN:VEVENT
DTSTAMP:20260425T110315Z
UID:7-1661786@abcofalaska.com
DTSTART:20261019T020000Z
DTEND:20261019T033000Z
CLASS:PUBLIC
CREATED:20260424T174028
DESCRIPTION:
LAST-MODIFIED:20260424T174028
LOCATION:
SUMMARY:Sunday Evening Service
URL;VALUE=URI:https://abcofalaska.com/events/sunday-evening-service/2026-10
 -18
ATTACH;FILENAME=2358383F-82E6-4F78-8637-9309E55CA04F.png;FMTTYPE=image/png:
 https://dq5pwpg1q8ru0.cloudfront.net/2022/06/16/00/21/11/2abeb160-7951-4c5
 8-bbc4-d7dbb1a9b158/2358383F-82E6-4F78-8637-9309E55CA04F.png
END:VEVENT
END:VCALENDAR
